{"text_format":"1","workbook":"xlsx","n_sheets":2,"sheets":["poly","Tabelle2"],"not_rendered":{"charts":1,"images":19,"macros":1,"external_links":0,"defined_names":15,"comments":0,"pivot_tables":0},"unopened":[],"bounds":{"document_bytes":16777216,"sheet_cells":100000,"rows_first":2000,"rows_last":500,"rows_between":2000,"halvings":0,"cell_chars":16384,"cell_head_chars":4096},"cells_cut":0,"cells_raw":0,"read":"whole","date_system":"1900"}

{"sheet":"poly","index":0,"n_rows":29,"n_cols":19,"rows_kept":29,"cut":false,"hidden":false,"merged":[[0,0,3,7],[26,0,27,6],[5,6,21,7],[25,0,25,7],[28,0,29,18],[10,0,17,1],[22,0,24,1],[5,0,9,1],[5,2,24,5],[4,0,4,7]]}
[{"$f":"\"y = \"&IF(AND(_a0=0,_a1=0,_a2=0,_a3=0),\"0\",IF(_a0<0,\" - \"&ABS(_a0),IF(_a0>0,_a0,\"\"))&IF(_a1<0,\" - \"&IF(ABS(_a1)<>1,ABS(_a1),\"\")&\"x\",IF(_a1>0,IF(_a0<>0,\" + \",\"\")&IF(ABS(_a1)<>1,ABS(_a1),\"\")&\"x\",\"\"))&IF(_a2<0,\" - \"&IF(ABS(_a2)<>1,ABS(_a2),\"\")&\"x²\",IF(_a2>0,IF(OR(_a0<>0,_a1<>0),\" + \",\"\")&IF(ABS(_a2)<>1,ABS(_a2),\"\")&\"x²\",\"\"))&IF(_a3<0,\" - \"&IF(ABS(_a3)<>1,ABS(_a3),\"\")&\"x³\",IF(_a3>0,IF(OR(_a0<>0,_a1<>0,_a2<>0),\" + \",\"\")&IF(ABS(_a3)<>1,ABS(_a3),\"\")&\"x³\",\"\")))","v":"y = x²"}]
[]
[]
[]
["             y  =  a0  +  a1x + a2x² + a3x³"]
[]
[]
[]
[]
[]
[]
[]
[]
[]
[]
[]
[]
[]
["a0 ="]
["a1 ="]
["a2 ="]
["a3 ="]
[null,null,null,null,null,null,"x :",{"$f":"ROUND(_x0,3)","v":0}]
[null,null,null,null,null,null,"y :",{"$f":"ROUND(_y0,3)","v":0}]
[null,null,null,null,null,null,"dy/dx :",{"$f":"ROUND(_a1+2*_a2*_x0+3*_a3*_x0*_x0,3)","v":0}]
[{"$f":"\"y'  = \"&IF(AND(_a1=0,_a2=0,_a3=0),\"0\",IF(_a1<0,\" - \"&ABS(_a1),IF(_a1>0,_a1,\"\"))&IF(_a2<0,\" - \"&IF(ABS(2*_a2)<>1,ABS(2*_a2),\"\")&\"x\",IF(_a2>0,IF(_a1<>0,\" + \",\"\")&IF(ABS(2*_a2)<>1,ABS(2*_a2),\"\")&\"x\",\"\"))&IF(_a3<0,\" - \"&IF(ABS(3*_a3)<>1,ABS(3*_a3),\"\")&\"x²\",IF(_a3>0,IF(OR(_a1<>0,_a2<>0),\" + \",\"\")&IF(ABS(3*_a3)<>1,ABS(3*_a3),\"\")&\"x²\",\"\")))","v":"y'  = 2x"}]
[null,null,null,null,null,null,null,"x : ",{"$f":"Tabelle2!$A2","v":-5},{"$f":"Tabelle2!$A12","v":-4.0000000000000036},{"$f":"Tabelle2!$A22","v":-3.0000000000000027},{"$f":"Tabelle2!$A32","v":-2.0000000000000018},{"$f":"Tabelle2!$A42","v":-1.0000000000000009},{"$f":"Tabelle2!$A52","v":0},{"$f":"Tabelle2!$A62","v":0.99999999999999989},{"$f":"Tabelle2!$A72","v":2.0000000000000004},{"$f":"Tabelle2!$A82","v":3.0000000000000013},{"$f":"Tabelle2!$A92","v":4.0000000000000018},{"$f":"Tabelle2!$A102","v":4.9999999999999982}]
[null,null,null,null,null,null,null,"y : ",{"$f":"ROUND(_a0+_a1*_x_wt+_a2*_x_wt*_x_wt+_a3*_x_wt*_x_wt*_x_wt,3)","v":25},16,9,4,1,0,1,4,9,16,25]
[" ©2006 ing.-büro bechler halle   ·   0171 - 6536437   ·   ebechler.de "]

{"sheet":"Tabelle2","index":1,"n_rows":102,"n_cols":7,"rows_kept":102,"cut":false,"hidden":true,"merged":[]}
["x:","y:","y´:",null,"dx:",0.1]
[{"$f":"__xl","v":-5},{"$f":"_a0+_a1*_x+_a2*_x*_x+_a3*_x*_x*_x","v":25},{"$f":"_a1+2*_a2*_x+3*_a3*_x*_x","v":-10},null,"f:",100]
[{"$f":"A2+_dx","v":-4.9000000000000004},24.010000000000005,-9.8000000000000007,null,"x0:",8000,{"$f":"(F3-8000)/(8*_f)","v":0}]
[-4.8000000000000007,23.040000000000006,-9.6000000000000014,null,"a0:",500,{"$f":"(500-F4)/(0.5*_f)","v":0}]
[-4.7000000000000011,22.090000000000011,-9.4000000000000021,null,"a1:",500,{"$f":"(500-F5)/_f","v":0}]
[-4.6000000000000014,21.160000000000014,-9.2000000000000028,null,"a2:",250,{"$f":"(500-F6)/(2.5*_f)","v":1}]
[-4.5000000000000018,20.250000000000014,-9.0000000000000036,null,"a3:",500,{"$f":"(500-F7)/(5*_f)","v":0}]
[-4.4000000000000021,19.360000000000017,-8.8000000000000043,null,"xl:",-5]
[-4.3000000000000025,18.49000000000002,-8.600000000000005]
[-4.2000000000000028,17.640000000000025,-8.4000000000000057,null,"x0-marke:"]
[-4.1000000000000032,16.810000000000027,-8.2000000000000064,null,{"$f":"_x0","v":0},{"$f":"0.1*__xl/5","v":-0.1}]
[-4.0000000000000036,16.000000000000028,-8.0000000000000071,null,{"$f":"_x0","v":0},{"$f":"-0.15*__xl/5","v":0.15}]
[-3.9000000000000035,15.210000000000027,-7.8000000000000069]
[-3.8000000000000034,14.440000000000026,-7.6000000000000068,null,"y0-marke:"]
[-3.7000000000000033,13.690000000000024,-7.4000000000000066,null,{"$f":"0.1*__xl/5","v":-0.1},{"$f":"_a0+_a1*_x0+_a2*_x0*_x0+_a3*_x0*_x0*_x0","v":0}]
[-3.6000000000000032,12.960000000000022,-7.2000000000000064,null,{"$f":"-0.13*__xl/5","v":0.13},{"$f":"_a0+_a1*_x0+_a2*_x0*_x0+_a3*_x0*_x0*_x0","v":0}]
[-3.5000000000000031,12.250000000000021,-7.0000000000000062]
[-3.400000000000003,11.56000000000002,-6.800000000000006,null,"tang.:"]
[-3.3000000000000029,10.89000000000002,-6.6000000000000059,null,{"$f":"MIN(_x)","v":-5},{"$f":"(_a1+2*_a2*_x0+3*_a3*_x0*_x0)*(E19-_x0)+(_a0+_a1*_x0+_a2*_x0*_x0+_a3*_x0*_x0*_x0)","v":0}]
[-3.2000000000000028,10.240000000000018,-6.4000000000000057,null,{"$f":"MAX(_x)","v":4.9999999999999982},{"$f":"(_a1+2*_a2*_x0+3*_a3*_x0*_x0)*(E20-_x0)+(_a0+_a1*_x0+_a2*_x0*_x0+_a3*_x0*_x0*_x0)","v":0}]
[-3.1000000000000028,9.6100000000000172,-6.2000000000000055]
[-3.0000000000000027,9.000000000000016,-6.0000000000000053]
[-2.9000000000000026,8.4100000000000144,-5.8000000000000052]
[-2.8000000000000025,7.8400000000000141,-5.600000000000005]
[-2.7000000000000024,7.2900000000000134,-5.4000000000000048]
[-2.6000000000000023,6.7600000000000122,-5.2000000000000046]
[-2.5000000000000022,6.2500000000000107,-5.0000000000000044]
[{"$f":"A27+_dx","v":-2.4000000000000021},5.7600000000000104,-4.8000000000000043]
[-2.300000000000002,5.2900000000000098,-4.6000000000000041]
[-2.200000000000002,4.8400000000000087,-4.4000000000000039]
[-2.1000000000000019,4.4100000000000081,-4.2000000000000037]
[-2.0000000000000018,4.0000000000000071,-4.0000000000000036]
[-1.9000000000000017,3.6100000000000065,-3.8000000000000034]
[-1.8000000000000016,3.2400000000000055,-3.6000000000000032]
[-1.7000000000000015,2.890000000000005,-3.400000000000003]
[-1.6000000000000014,2.5600000000000045,-3.2000000000000028]
[-1.5000000000000013,2.250000000000004,-3.0000000000000027]
[-1.4000000000000012,1.9600000000000035,-2.8000000000000025]
[-1.3000000000000012,1.6900000000000031,-2.6000000000000023]
[-1.2000000000000011,1.4400000000000026,-2.4000000000000021]
[-1.100000000000001,1.2100000000000022,-2.200000000000002]
[-1.0000000000000009,1.0000000000000018,-2.0000000000000018]
[-0.90000000000000091,0.81000000000000161,-1.8000000000000018]
[-0.80000000000000093,0.64000000000000146,-1.6000000000000019]
[-0.70000000000000095,0.49000000000000132,-1.4000000000000019]
[-0.60000000000000098,0.36000000000000115,-1.200000000000002]
[-0.500000000000001,0.250000000000001,-1.000000000000002]
[-0.40000000000000102,0.16000000000000081,-0.80000000000000204]
[-0.30000000000000104,9.0000000000000621E-2,-0.60000000000000209]
[-0.20000000000000104,4.0000000000000417E-2,-0.40000000000000208]
[-0.10000000000000103,1.0000000000000207E-2,-0.20000000000000207]
[{"$f":"ROUND(A51+_dx,3)","v":0},0,0]
[{"$f":"A52+_dx","v":0.1},1.0000000000000002E-2,0.2]
[0.2,4.0000000000000008E-2,0.4]
[0.30000000000000004,9.0000000000000024E-2,0.60000000000000009]
[0.4,0.16000000000000003,0.8]
[0.5,0.25,1]
[0.6,0.36,1.2]
[0.7,0.48999999999999994,1.4]
[0.79999999999999993,0.6399999999999999,1.5999999999999999]
[0.89999999999999991,0.80999999999999983,1.7999999999999998]
[0.99999999999999989,0.99999999999999978,1.9999999999999998]
[1.0999999999999999,1.2099999999999997,2.1999999999999997]
[1.2,1.44,2.4]
[1.3,1.6900000000000002,2.6]
[1.4000000000000001,{"$f":"_a0+_a1*_x+_a2*_x*_x+_a3*_x*_x*_x","v":1.9600000000000004},{"$f":"_a1+2*_a2*_x+3*_a3*_x*_x","v":2.8000000000000003}]
[1.5000000000000002,2.2500000000000009,3.0000000000000004]
[1.6000000000000003,2.5600000000000009,3.2000000000000006]
[1.7000000000000004,2.8900000000000015,3.4000000000000008]
[1.8000000000000005,3.2400000000000015,3.600000000000001]
[1.9000000000000006,3.6100000000000021,3.8000000000000012]
[2.0000000000000004,4.0000000000000018,4.0000000000000009]
[2.1000000000000005,4.4100000000000019,4.2000000000000011]
[2.2000000000000006,4.8400000000000025,4.4000000000000012]
[2.3000000000000007,5.2900000000000036,4.6000000000000014]
[2.4000000000000008,5.7600000000000042,4.8000000000000016]
[2.5000000000000009,6.2500000000000044,5.0000000000000018]
[2.600000000000001,6.7600000000000051,5.200000000000002]
[2.7000000000000011,7.2900000000000054,5.4000000000000021]
[2.8000000000000012,7.8400000000000061,5.6000000000000023]
[2.9000000000000012,8.4100000000000072,5.8000000000000025]
[3.0000000000000013,9.0000000000000071,6.0000000000000027]
[3.1000000000000014,9.6100000000000083,6.2000000000000028]
[3.2000000000000015,10.240000000000009,6.400000000000003]
[3.3000000000000016,10.890000000000011,6.6000000000000032]
[3.4000000000000017,11.560000000000011,6.8000000000000034]
[3.5000000000000018,12.250000000000012,7.0000000000000036]
[3.6000000000000019,12.960000000000013,7.2000000000000037]
[3.700000000000002,13.690000000000014,7.4000000000000039]
[3.800000000000002,14.440000000000015,7.6000000000000041]
[3.9000000000000021,15.210000000000017,7.8000000000000043]
[4.0000000000000018,16.000000000000014,8.0000000000000036]
[4.1000000000000014,16.810000000000013,8.2000000000000028]
[4.2000000000000011,17.640000000000008,8.4000000000000021]
[4.3000000000000007,18.490000000000006,8.6000000000000014]
[4.4000000000000004,19.360000000000003,8.8000000000000007]
[4.5,20.25,9]
[4.5999999999999996,21.159999999999997,9.1999999999999993]
[4.6999999999999993,22.089999999999993,9.3999999999999986]
[4.7999999999999989,23.039999999999988,9.5999999999999979]
[4.8999999999999986,24.009999999999987,9.7999999999999972]
[{"$f":"A101+_dx","v":4.9999999999999982},24.999999999999982,9.9999999999999964]